Package: gep2pep Version: 1.20.0 Command: /Library/Frameworks/R.framework/Resources/bin/R CMD INSTALL gep2pep StartedAt: 2023-10-15 15:52:02 -0400 (Sun, 15 Oct 2023) EndedAt: 2023-10-15 15:53:00 -0400 (Sun, 15 Oct 2023) EllapsedTime: 57.4 seconds RetCode: 0 Status: OK