Package: genomicInstability Version: 1.6.0 Command: /Library/Frameworks/R.framework/Resources/bin/R CMD check --install=check:genomicInstability.install-out.txt --library=/Library/Frameworks/R.framework/Resources/library --no-vignettes --timings genomicInstability_1.6.0.tar.gz StartedAt: 2023-10-16 02:03:42 -0400 (Mon, 16 Oct 2023) EndedAt: 2023-10-16 02:15:33 -0400 (Mon, 16 Oct 2023) EllapsedTime: 710.0 seconds RetCode: 0 Status: OK CheckDir: genomicInstability.Rcheck Warnings: 0