Package: genomicInstability Version: 1.6.0 Command: /Library/Frameworks/R.framework/Resources/bin/R CMD build --keep-empty-dirs --no-resave-data genomicInstability StartedAt: 2023-10-15 18:31:59 -0400 (Sun, 15 Oct 2023) EndedAt: 2023-10-15 18:36:53 -0400 (Sun, 15 Oct 2023) EllapsedTime: 294.3 seconds RetCode: 0 Status: OK PackageFile: genomicInstability_1.6.0.tar.gz PackageFileSize: 1.221 MiB