git_url: https://git.bioconductor.org/packages/genomicInstability git_branch: RELEASE_3_17 git_last_commit: 20b6cce git_last_commit_date: 2023-04-25 11:31:58 -0400 (Tue, 25 Apr 2023) Package: genomicInstability Version: 1.6.0 Maintainer: Mariano Alvarez MaintainerEmail: reef103 at gmail.com