Package: genomes Version: 3.30.0 Command: chmod a+r genomes -R && F:\biocbuild\bbs-3.17-bioc\R\bin\R.exe CMD build --keep-empty-dirs --no-resave-data genomes StartedAt: 2023-10-15 19:27:33 -0400 (Sun, 15 Oct 2023) EndedAt: 2023-10-15 19:27:42 -0400 (Sun, 15 Oct 2023) EllapsedTime: 9.2 seconds RetCode: 0 Status: OK PackageFile: genomes_3.30.0.tar.gz PackageFileSize: 36.07 KiB