Package: genomes Version: 3.30.0 Command: /home/biocbuild/bbs-3.17-bioc/R/bin/R CMD build --keep-empty-dirs --no-resave-data genomes StartedAt: 2023-10-15 16:54:24 -0400 (Sun, 15 Oct 2023) EndedAt: 2023-10-15 16:54:30 -0400 (Sun, 15 Oct 2023) EllapsedTime: 5.3 seconds RetCode: 0 Status: OK PackageFile: genomes_3.30.0.tar.gz PackageFileSize: 35.61 KiB