Package: genomes Version: 3.30.0 Command: /Library/Frameworks/R.framework/Resources/bin/R CMD INSTALL genomes StartedAt: 2023-10-15 15:08:03 -0400 (Sun, 15 Oct 2023) EndedAt: 2023-10-15 15:08:33 -0400 (Sun, 15 Oct 2023) EllapsedTime: 29.7 seconds RetCode: 0 Status: OK