Package: genoCN Version: 1.52.0 Command: chmod a+r genoCN -R && F:\biocbuild\bbs-3.17-bioc\R\bin\R.exe CMD build --keep-empty-dirs --no-resave-data genoCN StartedAt: 2023-10-15 19:27:09 -0400 (Sun, 15 Oct 2023) EndedAt: 2023-10-15 19:27:26 -0400 (Sun, 15 Oct 2023) EllapsedTime: 17.2 seconds RetCode: 0 Status: OK PackageFile: genoCN_1.52.0.tar.gz PackageFileSize: 1.026 MiB