Package: genoCN Version: 1.52.0 Command: rm -rf genoCN.buildbin-libdir && mkdir genoCN.buildbin-libdir && F:\biocbuild\bbs-3.17-bioc\R\bin\R.exe CMD INSTALL --build --library=genoCN.buildbin-libdir genoCN_1.52.0.tar.gz StartedAt: 2023-10-16 08:51:06 -0400 (Mon, 16 Oct 2023) EndedAt: 2023-10-16 08:51:21 -0400 (Mon, 16 Oct 2023) EllapsedTime: 15.0 seconds RetCode: 0 Status: OK PackageFile: genoCN_1.52.0.zip PackageFileSize: 907.2 KiB