Package: genoCN Version: 1.52.0 Command: /Library/Frameworks/R.framework/Resources/bin/R CMD INSTALL genoCN StartedAt: 2023-10-15 15:19:39 -0400 (Sun, 15 Oct 2023) EndedAt: 2023-10-15 15:19:54 -0400 (Sun, 15 Oct 2023) EllapsedTime: 15.0 seconds RetCode: 0 Status: OK