Package: genoCN Version: 1.52.0 Command: /Library/Frameworks/R.framework/Resources/bin/R CMD check --install=check:genoCN.install-out.txt --library=/Library/Frameworks/R.framework/Resources/library --no-vignettes --timings genoCN_1.52.0.tar.gz StartedAt: 2023-10-16 02:01:27 -0400 (Mon, 16 Oct 2023) EndedAt: 2023-10-16 02:02:56 -0400 (Mon, 16 Oct 2023) EllapsedTime: 89.2 seconds RetCode: 0 Status: OK CheckDir: genoCN.Rcheck Warnings: 0