Package: genoCN Version: 1.52.0 Command: /Library/Frameworks/R.framework/Resources/bin/R CMD build --keep-empty-dirs --no-resave-data genoCN StartedAt: 2023-10-15 18:30:46 -0400 (Sun, 15 Oct 2023) EndedAt: 2023-10-15 18:31:16 -0400 (Sun, 15 Oct 2023) EllapsedTime: 30.0 seconds RetCode: 0 Status: OK PackageFile: genoCN_1.52.0.tar.gz PackageFileSize: 1.139 MiB