Package: genoCN Version: 1.52.0 Command: rm -rf genoCN.buildbin-libdir && mkdir genoCN.buildbin-libdir && /Users/biocbuild/BBS/utils/build-universal.sh genoCN_1.52.0.tar.gz /Library/Frameworks/R.framework/Resources/bin/R genoCN.buildbin-libdir StartedAt: 2023-10-16 09:27:30 -0400 (Mon, 16 Oct 2023) EndedAt: 2023-10-16 09:27:46 -0400 (Mon, 16 Oct 2023) EllapsedTime: 16.7 seconds RetCode: 0 Status: OK PackageFile: genoCN_1.52.0.tgz PackageFileSize: 1021 KiB