Package: geneplotter Version: 1.78.0 Command: chmod a+r geneplotter -R && F:\biocbuild\bbs-3.17-bioc\R\bin\R.exe CMD build --keep-empty-dirs --no-resave-data geneplotter StartedAt: 2023-10-15 19:26:16 -0400 (Sun, 15 Oct 2023) EndedAt: 2023-10-15 19:26:51 -0400 (Sun, 15 Oct 2023) EllapsedTime: 35.2 seconds RetCode: 0 Status: OK PackageFile: geneplotter_1.78.0.tar.gz PackageFileSize: 1.338 MiB