Package: geneplotter Version: 1.78.0 Command: rm -rf geneplotter.buildbin-libdir && mkdir geneplotter.buildbin-libdir && F:\biocbuild\bbs-3.17-bioc\R\bin\R.exe CMD INSTALL --build --library=geneplotter.buildbin-libdir geneplotter_1.78.0.tar.gz StartedAt: 2023-10-16 08:50:38 -0400 (Mon, 16 Oct 2023) EndedAt: 2023-10-16 08:50:58 -0400 (Mon, 16 Oct 2023) EllapsedTime: 20.0 seconds RetCode: 0 Status: OK PackageFile: geneplotter_1.78.0.zip PackageFileSize: 1.456 MiB