Package: geneplotter Version: 1.78.0 Command: /home/biocbuild/bbs-3.17-bioc/R/bin/R CMD build --keep-empty-dirs --no-resave-data geneplotter StartedAt: 2023-10-15 16:53:42 -0400 (Sun, 15 Oct 2023) EndedAt: 2023-10-15 16:54:05 -0400 (Sun, 15 Oct 2023) EllapsedTime: 23.1 seconds RetCode: 0 Status: OK PackageFile: geneplotter_1.78.0.tar.gz PackageFileSize: 1.336 MiB