Package: geneplotter Version: 1.78.0 Command: rm -rf geneplotter.buildbin-libdir && mkdir geneplotter.buildbin-libdir && /Users/biocbuild/BBS/utils/build-universal.sh geneplotter_1.78.0.tar.gz /Library/Frameworks/R.framework/Resources/bin/R geneplotter.buildbin-libdir StartedAt: 2023-10-16 09:27:11 -0400 (Mon, 16 Oct 2023) EndedAt: 2023-10-16 09:28:05 -0400 (Mon, 16 Oct 2023) EllapsedTime: 54.5 seconds RetCode: 0 Status: OK PackageFile: geneplotter_1.78.0.tgz PackageFileSize: 1.61 MiB