Package: geneplast Version: 1.26.1 Command: /home/biocbuild/bbs-3.17-bioc/R/bin/R CMD build --keep-empty-dirs --no-resave-data geneplast StartedAt: 2023-10-15 16:53:40 -0400 (Sun, 15 Oct 2023) EndedAt: 2023-10-15 16:54:10 -0400 (Sun, 15 Oct 2023) EllapsedTime: 30.1 seconds RetCode: 0 Status: OK PackageFile: geneplast_1.26.1.tar.gz PackageFileSize: 7.073 MiB