Package: geneplast Version: 1.26.1 Command: /Library/Frameworks/R.framework/Resources/bin/R CMD check --install=check:geneplast.install-out.txt --library=/Library/Frameworks/R.framework/Resources/library --no-vignettes --timings geneplast_1.26.1.tar.gz StartedAt: 2023-10-16 01:58:50 -0400 (Mon, 16 Oct 2023) EndedAt: 2023-10-16 02:00:40 -0400 (Mon, 16 Oct 2023) EllapsedTime: 110.1 seconds RetCode: 0 Status: OK CheckDir: geneplast.Rcheck Warnings: 0