Package: geneplast Version: 1.26.1 Command: /Library/Frameworks/R.framework/Resources/bin/R CMD build --keep-empty-dirs --no-resave-data geneplast StartedAt: 2023-10-15 18:29:29 -0400 (Sun, 15 Oct 2023) EndedAt: 2023-10-15 18:30:39 -0400 (Sun, 15 Oct 2023) EllapsedTime: 70.5 seconds RetCode: 0 Status: OK PackageFile: geneplast_1.26.1.tar.gz PackageFileSize: 7.073 MiB