Package: geneplast Version: 1.26.1 Command: rm -rf geneplast.buildbin-libdir && mkdir geneplast.buildbin-libdir && /Users/biocbuild/BBS/utils/build-universal.sh geneplast_1.26.1.tar.gz /Library/Frameworks/R.framework/Resources/bin/R geneplast.buildbin-libdir StartedAt: 2023-10-16 09:27:08 -0400 (Mon, 16 Oct 2023) EndedAt: 2023-10-16 09:27:30 -0400 (Mon, 16 Oct 2023) EllapsedTime: 22.0 seconds RetCode: 0 Status: OK PackageFile: geneplast_1.26.1.tgz PackageFileSize: 4.057 MiB