git_url: https://git.bioconductor.org/packages/geneplast git_branch: RELEASE_3_17 git_last_commit: 6414c2c git_last_commit_date: 2023-08-15 14:49:04 -0400 (Tue, 15 Aug 2023) Package: geneplast Version: 1.26.1 Maintainer: Mauro Castro MaintainerEmail: mauro.a.castro at gmail.com