Package: genefu Version: 2.32.0 Command: chmod a+r genefu -R && F:\biocbuild\bbs-3.17-bioc\R\bin\R.exe CMD build --keep-empty-dirs --no-resave-data genefu StartedAt: 2023-10-15 19:25:33 -0400 (Sun, 15 Oct 2023) EndedAt: 2023-10-15 19:27:40 -0400 (Sun, 15 Oct 2023) EllapsedTime: 126.6 seconds RetCode: 0 Status: OK PackageFile: genefu_2.32.0.tar.gz PackageFileSize: 4.636 MiB