Package: genefu Version: 2.32.0 Command: rm -rf genefu.buildbin-libdir && mkdir genefu.buildbin-libdir && F:\biocbuild\bbs-3.17-bioc\R\bin\R.exe CMD INSTALL --build --library=genefu.buildbin-libdir genefu_2.32.0.tar.gz StartedAt: 2023-10-16 08:50:29 -0400 (Mon, 16 Oct 2023) EndedAt: 2023-10-16 08:51:08 -0400 (Mon, 16 Oct 2023) EllapsedTime: 38.2 seconds RetCode: 0 Status: OK PackageFile: genefu_2.32.0.zip PackageFileSize: 4.932 MiB