Package: genefu Version: 2.32.0 Command: /Library/Frameworks/R.framework/Resources/bin/R CMD build --keep-empty-dirs --no-resave-data genefu StartedAt: 2023-10-15 18:28:59 -0400 (Sun, 15 Oct 2023) EndedAt: 2023-10-15 18:31:59 -0400 (Sun, 15 Oct 2023) EllapsedTime: 180.0 seconds RetCode: 0 Status: OK PackageFile: genefu_2.32.0.tar.gz PackageFileSize: 4.868 MiB