Package: genefu Version: 2.32.0 Command: rm -rf genefu.buildbin-libdir && mkdir genefu.buildbin-libdir && /Users/biocbuild/BBS/utils/build-universal.sh genefu_2.32.0.tar.gz /Library/Frameworks/R.framework/Resources/bin/R genefu.buildbin-libdir StartedAt: 2023-10-16 09:26:50 -0400 (Mon, 16 Oct 2023) EndedAt: 2023-10-16 09:28:26 -0400 (Mon, 16 Oct 2023) EllapsedTime: 95.7 seconds RetCode: 0 Status: OK PackageFile: genefu_2.32.0.tgz PackageFileSize: 5.158 MiB