Package: geneXtendeR Version: 1.26.0 Command: chmod a+r geneXtendeR -R && F:\biocbuild\bbs-3.17-bioc\R\bin\R.exe CMD build --keep-empty-dirs --no-resave-data geneXtendeR StartedAt: 2023-10-15 19:27:07 -0400 (Sun, 15 Oct 2023) EndedAt: 2023-10-15 19:27:14 -0400 (Sun, 15 Oct 2023) EllapsedTime: 6.9 seconds RetCode: 0 Status: OK PackageFile: geneXtendeR_1.26.0.tar.gz PackageFileSize: 11.74 MiB