Package: geneXtendeR Version: 1.26.0 Command: rm -rf geneXtendeR.buildbin-libdir && mkdir geneXtendeR.buildbin-libdir && F:\biocbuild\bbs-3.17-bioc\R\bin\R.exe CMD INSTALL --build --library=geneXtendeR.buildbin-libdir geneXtendeR_1.26.0.tar.gz StartedAt: 2023-10-16 08:51:03 -0400 (Mon, 16 Oct 2023) EndedAt: 2023-10-16 08:52:06 -0400 (Mon, 16 Oct 2023) EllapsedTime: 62.6 seconds RetCode: 0 Status: OK PackageFile: geneXtendeR_1.26.0.zip PackageFileSize: 8.495 MiB