Package: geneXtendeR Version: 1.26.0 Command: /home/biocbuild/bbs-3.17-bioc/R/bin/R CMD build --keep-empty-dirs --no-resave-data geneXtendeR StartedAt: 2023-10-15 16:54:10 -0400 (Sun, 15 Oct 2023) EndedAt: 2023-10-15 16:54:13 -0400 (Sun, 15 Oct 2023) EllapsedTime: 3.3 seconds RetCode: 0 Status: OK PackageFile: geneXtendeR_1.26.0.tar.gz PackageFileSize: 11.74 MiB