Package: geneXtendeR Version: 1.26.0 Command: /Library/Frameworks/R.framework/Resources/bin/R CMD build --keep-empty-dirs --no-resave-data geneXtendeR StartedAt: 2023-10-15 18:30:41 -0400 (Sun, 15 Oct 2023) EndedAt: 2023-10-15 18:30:48 -0400 (Sun, 15 Oct 2023) EllapsedTime: 7.1 seconds RetCode: 0 Status: OK PackageFile: geneXtendeR_1.26.0.tar.gz PackageFileSize: 11.74 MiB