Package: geneXtendeR Version: 1.26.0 Command: rm -rf geneXtendeR.buildbin-libdir && mkdir geneXtendeR.buildbin-libdir && /Users/biocbuild/BBS/utils/build-universal.sh geneXtendeR_1.26.0.tar.gz /Library/Frameworks/R.framework/Resources/bin/R geneXtendeR.buildbin-libdir StartedAt: 2023-10-16 09:27:26 -0400 (Mon, 16 Oct 2023) EndedAt: 2023-10-16 09:30:12 -0400 (Mon, 16 Oct 2023) EllapsedTime: 166.0 seconds RetCode: 0 Status: OK PackageFile: geneXtendeR_1.26.0.tgz PackageFileSize: 8.509 MiB