Package: geneRxCluster Version: 1.36.0 Command: rm -rf geneRxCluster.buildbin-libdir && mkdir geneRxCluster.buildbin-libdir && F:\biocbuild\bbs-3.17-bioc\R\bin\R.exe CMD INSTALL --build --library=geneRxCluster.buildbin-libdir geneRxCluster_1.36.0.tar.gz StartedAt: 2023-10-16 08:50:47 -0400 (Mon, 16 Oct 2023) EndedAt: 2023-10-16 08:51:03 -0400 (Mon, 16 Oct 2023) EllapsedTime: 15.7 seconds RetCode: 0 Status: OK PackageFile: geneRxCluster_1.36.0.zip PackageFileSize: 203.4 KiB