Package: geneRxCluster Version: 1.36.0 Command: /home/biocbuild/bbs-3.17-bioc/R/bin/R CMD build --keep-empty-dirs --no-resave-data geneRxCluster StartedAt: 2023-10-15 16:53:55 -0400 (Sun, 15 Oct 2023) EndedAt: 2023-10-15 16:54:32 -0400 (Sun, 15 Oct 2023) EllapsedTime: 37.2 seconds RetCode: 0 Status: OK PackageFile: geneRxCluster_1.36.0.tar.gz PackageFileSize: 142 KiB