Package: geneRxCluster Version: 1.36.0 Command: rm -rf geneRxCluster.buildbin-libdir && mkdir geneRxCluster.buildbin-libdir && /Users/biocbuild/BBS/utils/build-universal.sh geneRxCluster_1.36.0.tar.gz /Library/Frameworks/R.framework/Resources/bin/R geneRxCluster.buildbin-libdir StartedAt: 2023-10-16 09:27:13 -0400 (Mon, 16 Oct 2023) EndedAt: 2023-10-16 09:27:50 -0400 (Mon, 16 Oct 2023) EllapsedTime: 37.5 seconds RetCode: 0 Status: OK PackageFile: geneRxCluster_1.36.0.tgz PackageFileSize: 338 KiB