Package: geneRecommender Version: 1.72.0 Command: F:\biocbuild\bbs-3.17-bioc\R\bin\R.exe CMD check --no-multiarch --install=check:geneRecommender.install-out.txt --library=F:\biocbuild\bbs-3.17-bioc\R\library --no-vignettes --timings geneRecommender_1.72.0.tar.gz StartedAt: 2023-10-16 02:27:52 -0400 (Mon, 16 Oct 2023) EndedAt: 2023-10-16 02:28:21 -0400 (Mon, 16 Oct 2023) EllapsedTime: 28.7 seconds RetCode: 0 Status: OK CheckDir: geneRecommender.Rcheck Warnings: 0