Package: geneRecommender Version: 1.72.0 Command: /home/biocbuild/bbs-3.17-bioc/R/bin/R CMD INSTALL geneRecommender StartedAt: 2023-10-15 15:07:23 -0400 (Sun, 15 Oct 2023) EndedAt: 2023-10-15 15:07:38 -0400 (Sun, 15 Oct 2023) EllapsedTime: 14.2 seconds RetCode: 0 Status: OK