Package: geneRecommender Version: 1.72.0 Command: /home/biocbuild/bbs-3.17-bioc/R/bin/R CMD build --keep-empty-dirs --no-resave-data geneRecommender StartedAt: 2023-10-15 16:53:51 -0400 (Sun, 15 Oct 2023) EndedAt: 2023-10-15 16:53:57 -0400 (Sun, 15 Oct 2023) EllapsedTime: 5.6 seconds RetCode: 0 Status: OK PackageFile: geneRecommender_1.72.0.tar.gz PackageFileSize: 123.3 KiB