Package: geneRecommender Version: 1.72.0 Command: /Library/Frameworks/R.framework/Resources/bin/R CMD INSTALL geneRecommender StartedAt: 2023-10-15 15:04:52 -0400 (Sun, 15 Oct 2023) EndedAt: 2023-10-15 15:05:20 -0400 (Sun, 15 Oct 2023) EllapsedTime: 28.7 seconds RetCode: 0 Status: OK