Package: geneRecommender Version: 1.72.0 Command: /Library/Frameworks/R.framework/Resources/bin/R CMD check --install=check:geneRecommender.install-out.txt --library=/Library/Frameworks/R.framework/Resources/library --no-vignettes --timings geneRecommender_1.72.0.tar.gz StartedAt: 2023-10-16 01:59:12 -0400 (Mon, 16 Oct 2023) EndedAt: 2023-10-16 02:00:11 -0400 (Mon, 16 Oct 2023) EllapsedTime: 59.2 seconds RetCode: 0 Status: OK CheckDir: geneRecommender.Rcheck Warnings: 0