Package: geneRecommender Version: 1.72.0 Command: /Library/Frameworks/R.framework/Resources/bin/R CMD build --keep-empty-dirs --no-resave-data geneRecommender StartedAt: 2023-10-15 18:29:44 -0400 (Sun, 15 Oct 2023) EndedAt: 2023-10-15 18:30:00 -0400 (Sun, 15 Oct 2023) EllapsedTime: 15.9 seconds RetCode: 0 Status: OK PackageFile: geneRecommender_1.72.0.tar.gz PackageFileSize: 239.9 KiB