Package: geneClassifiers Version: 1.24.0 Command: F:\biocbuild\bbs-3.17-bioc\R\bin\R.exe CMD INSTALL geneClassifiers StartedAt: 2023-10-15 15:48:24 -0400 (Sun, 15 Oct 2023) EndedAt: 2023-10-15 15:48:40 -0400 (Sun, 15 Oct 2023) EllapsedTime: 16.2 seconds RetCode: 0 Status: OK