Package: geneClassifiers Version: 1.24.0 Command: /home/biocbuild/bbs-3.17-bioc/R/bin/R CMD build --keep-empty-dirs --no-resave-data geneClassifiers StartedAt: 2023-10-15 16:53:06 -0400 (Sun, 15 Oct 2023) EndedAt: 2023-10-15 16:53:17 -0400 (Sun, 15 Oct 2023) EllapsedTime: 10.6 seconds RetCode: 0 Status: OK PackageFile: geneClassifiers_1.24.0.tar.gz PackageFileSize: 1.697 MiB