Package: geneClassifiers Version: 1.24.0 Command: /Library/Frameworks/R.framework/Resources/bin/R CMD INSTALL geneClassifiers StartedAt: 2023-10-15 15:04:40 -0400 (Sun, 15 Oct 2023) EndedAt: 2023-10-15 15:05:51 -0400 (Sun, 15 Oct 2023) EllapsedTime: 71.1 seconds RetCode: 0 Status: OK