Package: genArise Version: 1.76.0 Command: F:\biocbuild\bbs-3.17-bioc\R\bin\R.exe CMD INSTALL genArise StartedAt: 2023-10-15 15:52:08 -0400 (Sun, 15 Oct 2023) EndedAt: 2023-10-15 15:52:23 -0400 (Sun, 15 Oct 2023) EllapsedTime: 15.1 seconds RetCode: 0 Status: OK