Package: genArise Version: 1.76.0 Command: chmod a+r genArise -R && F:\biocbuild\bbs-3.17-bioc\R\bin\R.exe CMD build --keep-empty-dirs --no-resave-data genArise StartedAt: 2023-10-15 19:25:10 -0400 (Sun, 15 Oct 2023) EndedAt: 2023-10-15 19:25:26 -0400 (Sun, 15 Oct 2023) EllapsedTime: 16.2 seconds RetCode: 0 Status: OK PackageFile: genArise_1.76.0.tar.gz PackageFileSize: 843.9 KiB