Package: genArise Version: 1.76.0 Command: /home/biocbuild/bbs-3.17-bioc/R/bin/R CMD check --install=check:genArise.install-out.txt --library=/home/biocbuild/bbs-3.17-bioc/R/site-library --timings genArise_1.76.0.tar.gz StartedAt: 2023-10-15 21:30:15 -0400 (Sun, 15 Oct 2023) EndedAt: 2023-10-15 21:30:47 -0400 (Sun, 15 Oct 2023) EllapsedTime: 32.0 seconds RetCode: 0 Status: WARNINGS CheckDir: genArise.Rcheck Warnings: 1