Package: genArise Version: 1.76.0 Command: /home/biocbuild/bbs-3.17-bioc/R/bin/R CMD build --keep-empty-dirs --no-resave-data genArise StartedAt: 2023-10-15 16:52:41 -0400 (Sun, 15 Oct 2023) EndedAt: 2023-10-15 16:52:51 -0400 (Sun, 15 Oct 2023) EllapsedTime: 9.3 seconds RetCode: 0 Status: OK PackageFile: genArise_1.76.0.tar.gz PackageFileSize: 836.2 KiB