Package: genArise Version: 1.76.0 Command: /Library/Frameworks/R.framework/Resources/bin/R CMD check --install=check:genArise.install-out.txt --library=/Library/Frameworks/R.framework/Resources/library --no-vignettes --timings genArise_1.76.0.tar.gz StartedAt: 2023-10-16 01:56:37 -0400 (Mon, 16 Oct 2023) EndedAt: 2023-10-16 01:58:10 -0400 (Mon, 16 Oct 2023) EllapsedTime: 93.0 seconds RetCode: 0 Status: WARNINGS CheckDir: genArise.Rcheck Warnings: 1