Package: genArise Version: 1.76.0 Command: /Library/Frameworks/R.framework/Resources/bin/R CMD build --keep-empty-dirs --no-resave-data genArise StartedAt: 2023-10-15 18:27:53 -0400 (Sun, 15 Oct 2023) EndedAt: 2023-10-15 18:28:23 -0400 (Sun, 15 Oct 2023) EllapsedTime: 30.2 seconds RetCode: 0 Status: OK PackageFile: genArise_1.76.0.tar.gz PackageFileSize: 1.023 MiB