Package: genArise Version: 1.76.0 Command: rm -rf genArise.buildbin-libdir && mkdir genArise.buildbin-libdir && /Users/biocbuild/BBS/utils/build-universal.sh genArise_1.76.0.tar.gz /Library/Frameworks/R.framework/Resources/bin/R genArise.buildbin-libdir StartedAt: 2023-10-16 09:26:43 -0400 (Mon, 16 Oct 2023) EndedAt: 2023-10-16 09:27:13 -0400 (Mon, 16 Oct 2023) EllapsedTime: 30.2 seconds RetCode: 0 Status: OK PackageFile: genArise_1.76.0.tgz PackageFileSize: 1.241 MiB